BEGIN:VCALENDAR
PRODID:-//Pixl8//Eventfolio//EN
VERSION:2.0
X-WR-TIMEZONE:Europe/London
CALSCALE:GREGORIAN
METHOD:PUBLISH
CLASS:PUBLIC
BEGIN:VTIMEZONE
TZID:Europe/London
LAST-MODIFIED:20260306T231828Z
TZURL:https://www.tzurl.org/zoneinfo-outlook/Europe/London
X-LIC-LOCATION:Europe/London
BEGIN:DAYLIGHT
TZNAME:BST
TZOFFSETFROM:+0000
TZOFFSETTO:+0100
DTSTART:19700329T010000
RRULE:FREQ=YEARLY;BYMONTH=3;BYDAY=-1SU
END:DAYLIGHT
BEGIN:STANDARD
TZNAME:GMT
TZOFFSETFROM:+0100
TZOFFSETTO:+0000
DTSTART:19701025T020000
RRULE:FREQ=YEARLY;BYMONTH=10;BYDAY=-1SU
END:STANDARD
END:VTIMEZONE
BEGIN:VEVENT
DTSTART;TZID=Europe/London:20260601T093000
DTEND;TZID=Europe/London:20260601T130000
DTSTAMP:20260420T163817Z
UID:{4FB58379-8DB3-4FB2-97AB2363DA0613CB}
LOCATION:Elekta Limited\, Cornerstone\, London Road\, Crawley\, West Sussex\, RH10 9BL
SUMMARY:Sussex Chamber International Trade Forum 
DESCRIPTION:Experience an exclusive tour with Elekta! Connect with forward‑thinking companies from multiple sectors, all engaged in or preparing to launch into international markets.\n
 \n
 Event details: https://www.sussexchamberofcommerce.co.uk/events-training/ems-event-calendar/sussex-chamber-international-trade.html
PRIORITY:1
END:VEVENT
END:VCALENDAR