BEGIN:VCALENDAR
PRODID:-//Pixl8//Eventfolio//EN
VERSION:2.0
X-WR-TIMEZONE:Europe/London
CALSCALE:GREGORIAN
METHOD:PUBLISH
CLASS:PUBLIC
BEGIN:VTIMEZONE
TZID:Europe/London
LAST-MODIFIED:20260306T231828Z
TZURL:https://www.tzurl.org/zoneinfo-outlook/Europe/London
X-LIC-LOCATION:Europe/London
BEGIN:DAYLIGHT
TZNAME:BST
TZOFFSETFROM:+0000
TZOFFSETTO:+0100
DTSTART:19700329T010000
RRULE:FREQ=YEARLY;BYMONTH=3;BYDAY=-1SU
END:DAYLIGHT
BEGIN:STANDARD
TZNAME:GMT
TZOFFSETFROM:+0100
TZOFFSETTO:+0000
DTSTART:19701025T020000
RRULE:FREQ=YEARLY;BYMONTH=10;BYDAY=-1SU
END:STANDARD
END:VTIMEZONE
BEGIN:VEVENT
DTSTART;TZID=Europe/London:20260507T100000
DTEND;TZID=Europe/London:20260507T140000
DTSTAMP:20260420T021315Z
UID:{0D172736-B204-47D6-8DF0D577C887B549}
LOCATION:South of England Event Centre
SUMMARY:Sussex Chamber Business Expo 2026 - Exhibitor Booking
DESCRIPTION:Explore a bustling exhibition of innovative products and services, perfect for building new connections.\n
 \n
 Event details: https://www.sussexchamberofcommerce.co.uk/events-training/ems-event-calendar/sussex-chamber-business-expo-2026-exhibitor-booking.html
PRIORITY:1
END:VEVENT
END:VCALENDAR