BEGIN:VCALENDAR
PRODID:-//Pixl8//Eventfolio//EN
VERSION:2.0
X-WR-TIMEZONE:Europe/London
CALSCALE:GREGORIAN
METHOD:PUBLISH
CLASS:PUBLIC
BEGIN:VTIMEZONE
TZID:Europe/London
LAST-MODIFIED:20260306T231828Z
TZURL:https://www.tzurl.org/zoneinfo-outlook/Europe/London
X-LIC-LOCATION:Europe/London
BEGIN:DAYLIGHT
TZNAME:BST
TZOFFSETFROM:+0000
TZOFFSETTO:+0100
DTSTART:19700329T010000
RRULE:FREQ=YEARLY;BYMONTH=3;BYDAY=-1SU
END:DAYLIGHT
BEGIN:STANDARD
TZNAME:GMT
TZOFFSETFROM:+0100
TZOFFSETTO:+0000
DTSTART:19701025T020000
RRULE:FREQ=YEARLY;BYMONTH=10;BYDAY=-1SU
END:STANDARD
END:VTIMEZONE
BEGIN:VEVENT
DTSTART;TZID=Europe/London:20260622T093000
DTEND;TZID=Europe/London:20260622T123000
DTSTAMP:20260422T142228Z
UID:{41A9A395-34D3-4E35-A37B772566EA1030}
LOCATION:The King's Centre\, 33-35 Victoria Road\, Burgess Hill\, West Sussex\, RH15 9LR
SUMMARY:Networking & Building Relationships Masterclass
DESCRIPTION:Build confidence, make authentic connections, and network with purpose. This practical half‑day session gives you the mindset, tools, and techniques to network more effectively and enjoyably – with a clear elevator pitch and simple ways to follow up and stand out.\n
 \n
 Event details: https://www.sussexchamberofcommerce.co.uk/events-training/ems-event-calendar/networking-building-relationships-masterclass.html
PRIORITY:1
END:VEVENT
END:VCALENDAR