BEGIN:VCALENDAR
PRODID:-//Pixl8//Eventfolio//EN
VERSION:2.0
X-WR-TIMEZONE:Europe/London
CALSCALE:GREGORIAN
METHOD:PUBLISH
CLASS:PUBLIC
BEGIN:VTIMEZONE
TZID:Europe/London
LAST-MODIFIED:20260306T231828Z
TZURL:https://www.tzurl.org/zoneinfo-outlook/Europe/London
X-LIC-LOCATION:Europe/London
BEGIN:DAYLIGHT
TZNAME:BST
TZOFFSETFROM:+0000
TZOFFSETTO:+0100
DTSTART:19700329T010000
RRULE:FREQ=YEARLY;BYMONTH=3;BYDAY=-1SU
END:DAYLIGHT
BEGIN:STANDARD
TZNAME:GMT
TZOFFSETFROM:+0100
TZOFFSETTO:+0000
DTSTART:19701025T020000
RRULE:FREQ=YEARLY;BYMONTH=10;BYDAY=-1SU
END:STANDARD
END:VTIMEZONE
BEGIN:VEVENT
DTSTART;TZID=Europe/London:20241009T120000
DTEND;TZID=Europe/London:20241009T143000
DTSTAMP:20260420T142850Z
UID:{22C37392-703D-41AF-AAA1ED45105B7542}
LOCATION:Crowne Plaza Felbridge
SUMMARY:Business Networking Lunch and AGM
DESCRIPTION:The Chamber holds its Annual General Meeting (AGM) once per year, usually in the autumn.  Any Member of the Chamber can attend the AGM but voting is restricted to one vote per Member company.\n
 \n
 Event details: https://www.sussexchamberofcommerce.co.uk/events-training/ems-event-calendar/business-networking-lunch-and-agm.html
PRIORITY:1
END:VEVENT
END:VCALENDAR