BEGIN:VCALENDAR
PRODID:-//Pixl8//Eventfolio//EN
VERSION:2.0
X-WR-TIMEZONE:Europe/London
CALSCALE:GREGORIAN
METHOD:PUBLISH
CLASS:PUBLIC
BEGIN:VTIMEZONE
TZID:Europe/London
LAST-MODIFIED:20260306T231828Z
TZURL:https://www.tzurl.org/zoneinfo-outlook/Europe/London
X-LIC-LOCATION:Europe/London
BEGIN:DAYLIGHT
TZNAME:BST
TZOFFSETFROM:+0000
TZOFFSETTO:+0100
DTSTART:19700329T010000
RRULE:FREQ=YEARLY;BYMONTH=3;BYDAY=-1SU
END:DAYLIGHT
BEGIN:STANDARD
TZNAME:GMT
TZOFFSETFROM:+0100
TZOFFSETTO:+0000
DTSTART:19701025T020000
RRULE:FREQ=YEARLY;BYMONTH=10;BYDAY=-1SU
END:STANDARD
END:VTIMEZONE
BEGIN:VEVENT
DTSTART;TZID=Europe/London:20261021T083000
DTEND;TZID=Europe/London:20261021T113000
DTSTAMP:20260424T070714Z
UID:{01B590F1-B302-4D01-ABE863B22AEFEBF6}
LOCATION:Sandman Signature London Gatwick Hotel
SUMMARY:Business Networking & AGM
DESCRIPTION:Sussex Chamber Annual General Meeting.\n
 \n
 Event details: https://www.sussexchamberofcommerce.co.uk/events-training/ems-event-calendar/business-networking-agm.html
PRIORITY:1
END:VEVENT
END:VCALENDAR