BEGIN:VCALENDAR
PRODID:-//Pixl8//Eventfolio//EN
VERSION:2.0
X-WR-TIMEZONE:Europe/London
CALSCALE:GREGORIAN
METHOD:PUBLISH
CLASS:PUBLIC
BEGIN:VTIMEZONE
TZID:Europe/London
LAST-MODIFIED:20260306T231828Z
TZURL:https://www.tzurl.org/zoneinfo-outlook/Europe/London
X-LIC-LOCATION:Europe/London
BEGIN:DAYLIGHT
TZNAME:BST
TZOFFSETFROM:+0000
TZOFFSETTO:+0100
DTSTART:19700329T010000
RRULE:FREQ=YEARLY;BYMONTH=3;BYDAY=-1SU
END:DAYLIGHT
BEGIN:STANDARD
TZNAME:GMT
TZOFFSETFROM:+0100
TZOFFSETTO:+0000
DTSTART:19701025T020000
RRULE:FREQ=YEARLY;BYMONTH=10;BYDAY=-1SU
END:STANDARD
END:VTIMEZONE
BEGIN:VEVENT
DTSTART;TZID=Europe/London:20251128T110000
DTEND;TZID=Europe/London:20251128T120000
DTSTAMP:20260422T093407Z
UID:{232828C8-EBED-4460-96035A330E08C962}
LOCATION:Virtual/Online
SUMMARY:Autumn Budget Breakdown
DESCRIPTION:What does the Autumn Budget mean for you?\n
 Join our free 60-minute session on 28 November for expert insights from Rachel Harris (Accountant_She & StriveX) and Swoop co-founders Andrea Reynolds and Ciaran Burke. They’ll break down the key tax, funding, and policy changes announced just the day before\n
 \n
 Event details: https://www.sussexchamberofcommerce.co.uk/events-training/ems-event-calendar/autumn-budget-breakdown.html
PRIORITY:1
END:VEVENT
END:VCALENDAR