BEGIN:VCALENDAR
PRODID:-//Pixl8//Eventfolio//EN
VERSION:2.0
X-WR-TIMEZONE:Europe/London
CALSCALE:GREGORIAN
METHOD:PUBLISH
CLASS:PUBLIC
BEGIN:VTIMEZONE
TZID:Europe/London
LAST-MODIFIED:20260306T231828Z
TZURL:https://www.tzurl.org/zoneinfo-outlook/Europe/London
X-LIC-LOCATION:Europe/London
BEGIN:DAYLIGHT
TZNAME:BST
TZOFFSETFROM:+0000
TZOFFSETTO:+0100
DTSTART:19700329T010000
RRULE:FREQ=YEARLY;BYMONTH=3;BYDAY=-1SU
END:DAYLIGHT
BEGIN:STANDARD
TZNAME:GMT
TZOFFSETFROM:+0100
TZOFFSETTO:+0000
DTSTART:19701025T020000
RRULE:FREQ=YEARLY;BYMONTH=10;BYDAY=-1SU
END:STANDARD
END:VTIMEZONE
BEGIN:VEVENT
DTSTART;TZID=Europe/London:20260130T143000
DTEND;TZID=Europe/London:20260130T153000
DTSTAMP:20260420T161911Z
UID:{F1B9849F-0802-4405-AEA2DE4F4DE0F8C0}
LOCATION:Virtual/Online
SUMMARY:Ambassador Meeting
DESCRIPTION:Connect. Champion. Grow.\n
 Ambassadors join us for an exclusive Ambassador Meeting, your chance to meet fellow Ambassadors, share success stories, and discover powerful referral strategies.\n
 \n
 Event details: https://www.sussexchamberofcommerce.co.uk/events-training/ems-event-calendar/ambassador-meeting.html
PRIORITY:1
END:VEVENT
END:VCALENDAR